BEGIN:VCALENDAR
VERSION:2.0
PRODID:-//Golden Hills Country Club - ECPv6.15.18//NONSGML v1.0//EN
CALSCALE:GREGORIAN
METHOD:PUBLISH
X-ORIGINAL-URL:https://www.goldenhillsgolf.com
X-WR-CALDESC:Events for Golden Hills Country Club
REFRESH-INTERVAL;VALUE=DURATION:PT1H
X-Robots-Tag:noindex
X-PUBLISHED-TTL:PT1H
BEGIN:VTIMEZONE
TZID:UTC
BEGIN:STANDARD
TZOFFSETFROM:+0000
TZOFFSETTO:+0000
TZNAME:UTC
DTSTART:20250101T000000
END:STANDARD
END:VTIMEZONE
BEGIN:VEVENT
DTSTART;TZID=UTC:20260207T090000
DTEND;TZID=UTC:20260207T110000
DTSTAMP:20260421T174758
CREATED:20260131T205636Z
LAST-MODIFIED:20260131T205826Z
UID:1186-1770454800-1770462000@www.goldenhillsgolf.com
SUMMARY:Play It Forward
DESCRIPTION:
URL:https://www.goldenhillsgolf.com/event/play-it-forward-2/
END:VEVENT
BEGIN:VEVENT
DTSTART;TZID=UTC:20260221T093000
DTEND;TZID=UTC:20260221T123000
DTSTAMP:20260421T174758
CREATED:20260131T205719Z
LAST-MODIFIED:20260131T205719Z
UID:1188-1771666200-1771677000@www.goldenhillsgolf.com
SUMMARY:MGA: Pinehurst Alternate Shot
DESCRIPTION:
URL:https://www.goldenhillsgolf.com/event/mga-pinehurst-alternate-shot-3/
END:VEVENT
END:VCALENDAR