BEGIN:VCALENDAR
VERSION:2.0
PRODID:-//Golden Hills Country Club - ECPv6.15.18//NONSGML v1.0//EN
CALSCALE:GREGORIAN
METHOD:PUBLISH
X-WR-CALNAME:Golden Hills Country Club
X-ORIGINAL-URL:https://www.goldenhillsgolf.com
X-WR-CALDESC:Events for Golden Hills Country Club
REFRESH-INTERVAL;VALUE=DURATION:PT1H
X-Robots-Tag:noindex
X-PUBLISHED-TTL:PT1H
BEGIN:VTIMEZONE
TZID:UTC
BEGIN:STANDARD
TZOFFSETFROM:+0000
TZOFFSETTO:+0000
TZNAME:UTC
DTSTART:20250101T000000
END:STANDARD
END:VTIMEZONE
BEGIN:VEVENT
DTSTART;TZID=UTC:20260323T120000
DTEND;TZID=UTC:20260323T160000
DTSTAMP:20260421T125428
CREATED:20260301T190807Z
LAST-MODIFIED:20260301T190807Z
UID:1206-1774267200-1774281600@www.goldenhillsgolf.com
SUMMARY:Irmo Chamber
DESCRIPTION:
URL:https://www.goldenhillsgolf.com/event/irmo-chamber/
END:VEVENT
END:VCALENDAR